BEGIN:VCALENDAR
VERSION:2.0
PRODID:-//Tukios.com/
BEGIN:VEVENT
UID:1e77b8e4-b044-47db-967c-88d058cb8bfe@www.burnhammortuary.com
DTSTAMP:20260422T043537Z
DTSTART:20260501T190000Z
DTEND:20260501T200000Z
SUMMARY:Celebration of Life
DESCRIPTION:
URL:https://www.burnhammortuary.com/obituaries/lynn-garlow
LOCATION: 825 East Main Street  Springerville AZ 85938
GEO:34.133197;-109.2742785
END:VEVENT
END:VCALENDAR