BEGIN:VCALENDAR
VERSION:2.0
PRODID:-//Tukios.com/
BEGIN:VEVENT
UID:b37b8d02-78fa-4cd0-ad71-b266dd12d261@www.burnhammortuary.com
DTSTAMP:20260422T043301Z
DTSTART:20260425T180000Z
DTEND:20260425T190000Z
SUMMARY:Memorial Service
DESCRIPTION:
URL:https://www.burnhammortuary.com/obituaries/kenneth-hall-jr
LOCATION: 135 North Main Street  Eagar AZ 85925
GEO:34.11353;-109.2904363
END:VEVENT
END:VCALENDAR