BEGIN:VCALENDAR
VERSION:2.0
PRODID:-//Tukios.com/
BEGIN:VEVENT
UID:07bdfed1-7dac-4f41-877c-fb58d9361c29@www.burnhammortuary.com
DTSTAMP:20260423T215748Z
DTSTART:20260502T180000Z
DTEND:20260502T190000Z
SUMMARY:Funeral Service
DESCRIPTION:
URL:https://www.burnhammortuary.com/obituaries/jim-hauser
LOCATION: 2000 West Cleveland St.  St. Johns AZ 85936
GEO:34.5069652;-109.3945892
END:VEVENT
END:VCALENDAR