BEGIN:VCALENDAR
VERSION:2.0
PRODID:-//Tukios.com/
BEGIN:VEVENT
UID:be856b08-d74b-400d-9b31-6da2e7c3a083@www.burnhammortuary.com
DTSTAMP:20260423T215457Z
DTSTART:20260502T163000Z
DTEND:20260502T174500Z
SUMMARY:Visitation
DESCRIPTION:
URL:https://www.burnhammortuary.com/obituaries/jim-hauser
LOCATION: 2000 West Cleveland St.  St. Johns AZ 85936
GEO:34.5069652;-109.3945892
END:VEVENT
END:VCALENDAR