BEGIN:VCALENDAR
VERSION:2.0
PRODID:-//Tukios.com/
BEGIN:VEVENT
UID:ab2f5a3a-555d-4423-8bb6-74422f9d2876@www.burnhammortuary.com
DTSTAMP:20260422T214532Z
DTSTART:20260427T200000Z
DTEND:20260427T210000Z
SUMMARY:Graveside Service
DESCRIPTION:
URL:https://www.burnhammortuary.com/obituaries/edward-long
LOCATION: 300 East Adams  Show Low AZ 85901
GEO:34.2571236;-110.0390095
END:VEVENT
END:VCALENDAR