BEGIN:VCALENDAR
VERSION:2.0
PRODID:-//Tukios.com/
BEGIN:VEVENT
UID:3c79380b-1d1f-444d-b693-03fb87ea37de@www.burnhammortuary.com
DTSTAMP:20260422T224037Z
DTSTART:20260425T153000Z
DTEND:20260425T161500Z
SUMMARY:Visitation
DESCRIPTION:
URL:https://www.burnhammortuary.com/obituaries/billie-baca
LOCATION: 3484 US Highway 60  Quemado NM 87829
GEO:34.3402125;-108.49222
END:VEVENT
END:VCALENDAR