BEGIN:VCALENDAR
VERSION:2.0
PRODID:-//Tukios.com/
BEGIN:VEVENT
UID:5235b0d6-47bf-44af-bf37-68297c7df33d@www.burnhammortuary.com
DTSTAMP:20260422T224141Z
DTSTART:20260425T163000Z
DTEND:20260425T173000Z
SUMMARY:Funeral Service
DESCRIPTION:
URL:https://www.burnhammortuary.com/obituaries/billie-baca
LOCATION: 3484 US Highway 60  Quemado NM 87829
GEO:34.3402125;-108.49222
END:VEVENT
END:VCALENDAR